BEGIN:VCALENDAR
PRODID:-//PUBBLE//agenda//NL
VERSION:2.0
METHOD:PUBLISH
BEGIN:VEVENT
DTSTART:20220905T113000Z
DTEND:20230625T220000Z
DTSTAMP:20260419T133053Z
UID:56eca077-bbcd-4257-8f85-70cf31d08105
CREATED:20260419T133053Z
NAME:Middag Bridgeclub ‘t Gooi hilversumsnieuws.nl
X-WR-CALNAME:Middag Bridgeclub ‘t Gooi
X-ALT-DESC;FMTTYPE=text/html:<a href='/agenda/2022/9/5/middag-bridgeclub-t-gooi-294278'>/agenda/2022/9/5/middag-bridgeclub-t-gooi-294278</a> || <p>Bridgeclub ‘t Gooi , een van de oudste bridgeclubs van Hilversum, staat open voor dames en heren en heeft zijn thuisbasis in Sociëteit ‘De Unie’ aan de ‘s-Gravelandseweg 57 te HILVERSUM. 
Een prachtige locatie met daarnaast een uitstekende service.
Iedere maandagmiddag wordt er competitie gespeeld. Aanvang: 13.30 uur. Tweemaal per jaar is er een feestelijke drive met een maaltijd, verzorgd door de keukenbrigade van de Sociëteit. In de maanden juli en augustus is er een zomerstop.
Heeft u belangstelling? Kom een paar keer meespelen en beslis daarna of u lid wilt worden.
Contactpersoon: Ada Nollet, tel. 06-1417 8584 / ada.nollet@hotmail.com </p>
DESCRIPTION:<a href='/agenda/2022/9/5/middag-bridgeclub-t-gooi-294278'>/agenda/2022/9/5/middag-bridgeclub-t-gooi-294278</a> || <p>Bridgeclub ‘t Gooi , een van de oudste bridgeclubs van Hilversum, staat open voor dames en heren en heeft zijn thuisbasis in Sociëteit ‘De Unie’ aan de ‘s-Gravelandseweg 57 te HILVERSUM. 
Een prachtige locatie met daarnaast een uitstekende service.
Iedere maandagmiddag wordt er competitie gespeeld. Aanvang: 13.30 uur. Tweemaal per jaar is er een feestelijke drive met een maaltijd, verzorgd door de keukenbrigade van de Sociëteit. In de maanden juli en augustus is er een zomerstop.
Heeft u belangstelling? Kom een paar keer meespelen en beslis daarna of u lid wilt worden.
Contactpersoon: Ada Nollet, tel. 06-1417 8584 / ada.nollet@hotmail.com </p>
LAST-MODIFIED:20260419T133053Z
LOCATION: Sociëteit de Unie | 's-Gravelandseweg 57 Hilversum
SEQUENCE:0
STATUS:CONFIRMED
SUMMARY:Middag Bridgeclub ‘t Gooi
TRANSP:OPAQUE
END:VEVENT
END:VCALENDAR
